Package: SimFFPE Version: 1.16.0 Command: /Library/Frameworks/R.framework/Resources/bin/R CMD build --keep-empty-dirs --no-resave-data SimFFPE StartedAt: 2024-06-10 04:54:47 -0400 (Mon, 10 Jun 2024) EndedAt: 2024-06-10 04:57:31 -0400 (Mon, 10 Jun 2024) EllapsedTime: 163.8 seconds RetCode: 0 Status: OK PackageFile: SimFFPE_1.16.0.tar.gz PackageFileSize: 748.8 KiB