Package: SimFFPE Version: 1.16.0 Command: /Library/Frameworks/R.framework/Resources/bin/R CMD check --install=check:SimFFPE.install-out.txt --library=/Library/Frameworks/R.framework/Resources/library --no-vignettes --timings SimFFPE_1.16.0.tar.gz StartedAt: 2024-10-18 12:29:24 -0400 (Fri, 18 Oct 2024) EndedAt: 2024-10-18 12:34:35 -0400 (Fri, 18 Oct 2024) EllapsedTime: 310.8 seconds RetCode: 0 Status: OK CheckDir: SimFFPE.Rcheck Warnings: 0