Package: SimBu Version: 1.6.0 Command: rm -rf SimBu.buildbin-libdir && mkdir SimBu.buildbin-libdir && F:\biocbuild\bbs-3.19-bioc\R\bin\R.exe CMD INSTALL --build --library=SimBu.buildbin-libdir SimBu_1.6.0.tar.gz StartedAt: 2024-06-27 08:56:03 -0400 (Thu, 27 Jun 2024) EndedAt: 2024-06-27 08:56:38 -0400 (Thu, 27 Jun 2024) EllapsedTime: 34.7 seconds RetCode: 0 Status: OK PackageFile: SimBu_1.6.0.zip PackageFileSize: 230.2 KiB