Package: SimBindProfiles Version: 1.42.0 Command: chmod a+r SimBindProfiles -R && E:\biocbuild\bbs-3.19-bioc\R\bin\R.exe CMD build --keep-empty-dirs --no-resave-data SimBindProfiles StartedAt: 2024-10-16 21:58:42 -0400 (Wed, 16 Oct 2024) EndedAt: 2024-10-16 21:58:45 -0400 (Wed, 16 Oct 2024) EllapsedTime: 2.3 seconds RetCode: 1 Status: ERROR PackageFile: None PackageFileSize: NA