############################################################################## ############################################################################## ### ### Running command: ### ### /home/biocbuild/bbs-3.19-bioc/R/bin/R CMD build --keep-empty-dirs --no-resave-data SimBindProfiles ### ############################################################################## ############################################################################## * checking for file ‘SimBindProfiles/DESCRIPTION’ ... OK * preparing ‘SimBindProfiles’: * checking DESCRIPTION meta-information ... OK * installing the package to build vignettes ----------------------------------- ERROR: dependency ‘Ringo’ is not available for package ‘SimBindProfiles’ * removing ‘/tmp/Rtmp3JmU2S/Rinsta3f2b57bde59f/SimBindProfiles’ ----------------------------------- ERROR: package installation failed