Package: SigFuge Version: 1.42.0 Command: E:\biocbuild\bbs-3.19-bioc\R\bin\R.exe CMD check --no-multiarch --install=check:SigFuge.install-out.txt --library=E:\biocbuild\bbs-3.19-bioc\R\library --no-vignettes --timings SigFuge_1.42.0.tar.gz StartedAt: 2024-10-17 05:47:20 -0400 (Thu, 17 Oct 2024) EndedAt: 2024-10-17 05:49:51 -0400 (Thu, 17 Oct 2024) EllapsedTime: 151.2 seconds RetCode: 0 Status: OK CheckDir: SigFuge.Rcheck Warnings: 0