Package: SigFuge Version: 1.42.0 Command: rm -rf SigFuge.buildbin-libdir && mkdir SigFuge.buildbin-libdir && E:\biocbuild\bbs-3.19-bioc\R\bin\R.exe CMD INSTALL --build --library=SigFuge.buildbin-libdir SigFuge_1.42.0.tar.gz StartedAt: 2024-10-17 08:38:39 -0400 (Thu, 17 Oct 2024) EndedAt: 2024-10-17 08:38:57 -0400 (Thu, 17 Oct 2024) EllapsedTime: 17.7 seconds RetCode: 0 Status: OK PackageFile: SigFuge_1.42.0.zip PackageFileSize: 1.498 MiB