Package: SigFuge Version: 1.42.0 Command: F:\biocbuild\bbs-3.19-bioc\R\bin\R.exe CMD INSTALL SigFuge StartedAt: 2024-06-26 15:55:29 -0400 (Wed, 26 Jun 2024) EndedAt: 2024-06-26 15:55:52 -0400 (Wed, 26 Jun 2024) EllapsedTime: 23.5 seconds RetCode: 0 Status: OK