Package: SigFuge Version: 1.42.0 Command: rm -rf SigFuge.buildbin-libdir && mkdir SigFuge.buildbin-libdir && F:\biocbuild\bbs-3.19-bioc\R\bin\R.exe CMD INSTALL --build --library=SigFuge.buildbin-libdir SigFuge_1.42.0.tar.gz StartedAt: 2024-06-27 08:55:41 -0400 (Thu, 27 Jun 2024) EndedAt: 2024-06-27 08:56:08 -0400 (Thu, 27 Jun 2024) EllapsedTime: 26.7 seconds RetCode: 0 Status: OK PackageFile: SigFuge_1.42.0.zip PackageFileSize: 1.498 MiB