Package: SigFuge Version: 1.42.0 Command: /Library/Frameworks/R.framework/Resources/bin/R CMD check --install=check:SigFuge.install-out.txt --library=/Library/Frameworks/R.framework/Resources/library --no-vignettes --timings SigFuge_1.42.0.tar.gz StartedAt: 2024-06-09 23:04:59 -0400 (Sun, 09 Jun 2024) EndedAt: 2024-06-09 23:07:00 -0400 (Sun, 09 Jun 2024) EllapsedTime: 121.2 seconds RetCode: 0 Status: OK CheckDir: SigFuge.Rcheck Warnings: 0