Package: SigFuge Version: 1.42.0 Command: /home/biocbuild/R/R-beta-2024-04-15_r86425/bin/R CMD INSTALL SigFuge StartedAt: 2024-05-08 20:16:45 -0000 (Wed, 08 May 2024) EndedAt: 2024-05-08 20:17:03 -0000 (Wed, 08 May 2024) EllapsedTime: 17.3 seconds RetCode: 0 Status: OK