Package: SigFuge Version: 1.42.0 Command: /home/biocbuild/R/R-beta-2024-04-15_r86425/bin/R CMD check --install=check:SigFuge.install-out.txt --library=/home/biocbuild/R/R-beta-2024-04-15_r86425/site-library --no-vignettes --timings SigFuge_1.42.0.tar.gz StartedAt: 2024-05-09 11:57:12 -0000 (Thu, 09 May 2024) EndedAt: 2024-05-09 11:59:56 -0000 (Thu, 09 May 2024) EllapsedTime: 164.3 seconds RetCode: 0 Status: OK CheckDir: SigFuge.Rcheck Warnings: 0