Package: SigFuge Version: 1.42.0 Command: /Library/Frameworks/R.framework/Resources/bin/R CMD check --install=check:SigFuge.install-out.txt --library=/Library/Frameworks/R.framework/Resources/library --no-vignettes --timings SigFuge_1.42.0.tar.gz StartedAt: 2024-10-18 12:21:18 -0400 (Fri, 18 Oct 2024) EndedAt: 2024-10-18 12:23:44 -0400 (Fri, 18 Oct 2024) EllapsedTime: 145.9 seconds RetCode: 0 Status: OK CheckDir: SigFuge.Rcheck Warnings: 0