Package: SigFuge Version: 1.42.0 Command: /Library/Frameworks/R.framework/Resources/bin/R CMD build --keep-empty-dirs --no-resave-data SigFuge StartedAt: 2024-10-17 09:18:09 -0400 (Thu, 17 Oct 2024) EndedAt: 2024-10-17 09:19:27 -0400 (Thu, 17 Oct 2024) EllapsedTime: 78.3 seconds RetCode: 0 Status: OK PackageFile: SigFuge_1.42.0.tar.gz PackageFileSize: 1.458 MiB