Package: SigFuge Version: 1.42.0 Maintainer: Patrick Kimes MaintainerEmail: patrick.kimes at gmail.com git_url: https://git.bioconductor.org/packages/SigFuge git_branch: RELEASE_3_19 git_last_commit: 1f54eac git_last_commit_date: 2024-04-30 10:32:36 -0400 (Tue, 30 Apr 2024)