Package: SigCheck Version: 2.36.0 Command: chmod a+r SigCheck -R && E:\biocbuild\bbs-3.19-bioc\R\bin\R.exe CMD build --keep-empty-dirs --no-resave-data SigCheck StartedAt: 2024-10-16 21:57:08 -0400 (Wed, 16 Oct 2024) EndedAt: 2024-10-16 21:58:40 -0400 (Wed, 16 Oct 2024) EllapsedTime: 91.9 seconds RetCode: 0 Status: OK PackageFile: SigCheck_2.36.0.tar.gz PackageFileSize: 370.5 KiB