Package: SigCheck Version: 2.36.0 Command: rm -rf SigCheck.buildbin-libdir && mkdir SigCheck.buildbin-libdir && E:\biocbuild\bbs-3.19-bioc\R\bin\R.exe CMD INSTALL --build --library=SigCheck.buildbin-libdir SigCheck_2.36.0.tar.gz StartedAt: 2024-10-17 08:38:34 -0400 (Thu, 17 Oct 2024) EndedAt: 2024-10-17 08:39:33 -0400 (Thu, 17 Oct 2024) EllapsedTime: 59.2 seconds RetCode: 0 Status: OK PackageFile: SigCheck_2.36.0.zip PackageFileSize: 730.2 KiB