Package: SigCheck Version: 2.36.0 Command: /Library/Frameworks/R.framework/Resources/bin/R CMD INSTALL SigCheck StartedAt: 2024-10-16 16:22:38 -0400 (Wed, 16 Oct 2024) EndedAt: 2024-10-16 16:23:45 -0400 (Wed, 16 Oct 2024) EllapsedTime: 66.9 seconds RetCode: 0 Status: OK