Package: SigCheck Version: 2.36.0 Command: /Library/Frameworks/R.framework/Resources/bin/R CMD INSTALL SigCheck StartedAt: 2024-10-16 17:59:59 -0400 (Wed, 16 Oct 2024) EndedAt: 2024-10-16 18:00:34 -0400 (Wed, 16 Oct 2024) EllapsedTime: 35.6 seconds RetCode: 0 Status: OK