Package: SigCheck Version: 2.36.0 Command: rm -rf SigCheck.buildbin-libdir && mkdir SigCheck.buildbin-libdir && /Users/biocbuild/BBS/utils/build-universal.sh SigCheck_2.36.0.tar.gz /Library/Frameworks/R.framework/Resources/bin/R SigCheck.buildbin-libdir StartedAt: 2024-10-15 20:18:31 -0400 (Tue, 15 Oct 2024) EndedAt: 2024-10-15 20:19:14 -0400 (Tue, 15 Oct 2024) EllapsedTime: 43.0 seconds RetCode: 0 Status: OK PackageFile: SigCheck_2.36.0.tgz PackageFileSize: 724.9 KiB