Package: SiPSiC Version: 1.4.0 Command: chmod a+r SiPSiC -R && F:\biocbuild\bbs-3.19-bioc\R\bin\R.exe CMD build --keep-empty-dirs --no-resave-data SiPSiC StartedAt: 2024-06-26 22:01:29 -0400 (Wed, 26 Jun 2024) EndedAt: 2024-06-26 22:02:09 -0400 (Wed, 26 Jun 2024) EllapsedTime: 40.7 seconds RetCode: 0 Status: OK PackageFile: SiPSiC_1.4.0.tar.gz PackageFileSize: 236.5 KiB