Package: SiPSiC Version: 1.4.3 Command: /Library/Frameworks/R.framework/Resources/bin/R CMD build --keep-empty-dirs --no-resave-data SiPSiC StartedAt: 2024-10-16 23:28:05 -0400 (Wed, 16 Oct 2024) EndedAt: 2024-10-16 23:29:46 -0400 (Wed, 16 Oct 2024) EllapsedTime: 101.6 seconds RetCode: 0 Status: OK PackageFile: SiPSiC_1.4.3.tar.gz PackageFileSize: 236.8 KiB