Package: SiPSiC Version: 1.4.3 Command: rm -rf SiPSiC.buildbin-libdir && mkdir SiPSiC.buildbin-libdir && /Users/biocbuild/BBS/utils/build-universal.sh SiPSiC_1.4.3.tar.gz /Library/Frameworks/R.framework/Resources/bin/R SiPSiC.buildbin-libdir StartedAt: 2024-10-17 17:13:52 -0400 (Thu, 17 Oct 2024) EndedAt: 2024-10-17 17:14:44 -0400 (Thu, 17 Oct 2024) EllapsedTime: 52.4 seconds RetCode: 0 Status: OK PackageFile: SiPSiC_1.4.3.tgz PackageFileSize: 246.7 KiB