Package: SiPSiC Version: 1.4.0 Command: rm -rf SiPSiC.buildbin-libdir && mkdir SiPSiC.buildbin-libdir && /Users/biocbuild/BBS/utils/build-universal.sh SiPSiC_1.4.0.tar.gz /Library/Frameworks/R.framework/Resources/bin/R SiPSiC.buildbin-libdir StartedAt: 2024-06-10 00:40:37 -0400 (Mon, 10 Jun 2024) EndedAt: 2024-06-10 00:41:08 -0400 (Mon, 10 Jun 2024) EllapsedTime: 30.8 seconds RetCode: 0 Status: OK PackageFile: SiPSiC_1.4.0.tgz PackageFileSize: 246.4 KiB