Package: SiPSiC Version: 1.4.3 Maintainer: Daniel Davis MaintainerEmail: DanielDavis000 at gmail.com git_url: https://git.bioconductor.org/packages/SiPSiC git_branch: RELEASE_3_19 git_last_commit: 7d0b779 git_last_commit_date: 2024-08-06 03:55:06 -0400 (Tue, 06 Aug 2024)