Package: ShortRead Version: 1.62.0 Command: E:\biocbuild\bbs-3.19-bioc\R\bin\R.exe CMD INSTALL ShortRead StartedAt: 2024-10-16 16:27:59 -0400 (Wed, 16 Oct 2024) EndedAt: 2024-10-16 16:30:46 -0400 (Wed, 16 Oct 2024) EllapsedTime: 166.9 seconds RetCode: 0 Status: OK