Package: ShortRead Version: 1.62.0 Command: E:\biocbuild\bbs-3.19-bioc\R\bin\R.exe CMD check --no-multiarch --install=check:ShortRead.install-out.txt --library=E:\biocbuild\bbs-3.19-bioc\R\library --no-vignettes --timings ShortRead_1.62.0.tar.gz StartedAt: 2024-10-17 05:45:08 -0400 (Thu, 17 Oct 2024) EndedAt: 2024-10-17 05:55:01 -0400 (Thu, 17 Oct 2024) EllapsedTime: 592.8 seconds RetCode: 0 Status: WARNINGS CheckDir: ShortRead.Rcheck Warnings: 1