Package: ShortRead Version: 1.62.0 Command: chmod a+r ShortRead -R && F:\biocbuild\bbs-3.19-bioc\R\bin\R.exe CMD build --keep-empty-dirs --no-resave-data ShortRead StartedAt: 2024-06-26 21:56:49 -0400 (Wed, 26 Jun 2024) EndedAt: 2024-06-26 21:59:14 -0400 (Wed, 26 Jun 2024) EllapsedTime: 144.5 seconds RetCode: 0 Status: OK PackageFile: ShortRead_1.62.0.tar.gz PackageFileSize: 5.06 MiB