Package: ShortRead Version: 1.62.0 Command: /home/biocbuild/bbs-3.19-bioc/R/bin/R CMD check --install=check:ShortRead.install-out.txt --library=/home/biocbuild/bbs-3.19-bioc/R/site-library --timings ShortRead_1.62.0.tar.gz StartedAt: 2024-10-17 05:07:32 -0400 (Thu, 17 Oct 2024) EndedAt: 2024-10-17 05:12:07 -0400 (Thu, 17 Oct 2024) EllapsedTime: 274.7 seconds RetCode: 0 Status: WARNINGS CheckDir: ShortRead.Rcheck Warnings: 2