Package: ShortRead Version: 1.62.0 Command: /home/biocbuild/bbs-3.19-bioc/R/bin/R CMD build --keep-empty-dirs --no-resave-data ShortRead StartedAt: 2024-10-16 20:50:04 -0400 (Wed, 16 Oct 2024) EndedAt: 2024-10-16 20:51:10 -0400 (Wed, 16 Oct 2024) EllapsedTime: 66.1 seconds RetCode: 0 Status: OK PackageFile: ShortRead_1.62.0.tar.gz PackageFileSize: 5.06 MiB