Package: ShortRead Version: 1.62.0 Command: /Library/Frameworks/R.framework/Resources/bin/R CMD check --install=check:ShortRead.install-out.txt --library=/Library/Frameworks/R.framework/Resources/library --no-vignettes --timings ShortRead_1.62.0.tar.gz StartedAt: 2024-06-11 05:33:14 -0400 (Tue, 11 Jun 2024) EndedAt: 2024-06-11 05:40:51 -0400 (Tue, 11 Jun 2024) EllapsedTime: 456.8 seconds RetCode: 0 Status: WARNINGS CheckDir: ShortRead.Rcheck Warnings: 2