Package: ShortRead Version: 1.62.0 Command: /Library/Frameworks/R.framework/Resources/bin/R CMD build --keep-empty-dirs --no-resave-data ShortRead StartedAt: 2024-10-17 09:15:52 -0400 (Thu, 17 Oct 2024) EndedAt: 2024-10-17 09:17:25 -0400 (Thu, 17 Oct 2024) EllapsedTime: 92.9 seconds RetCode: 0 Status: OK PackageFile: ShortRead_1.62.0.tar.gz PackageFileSize: 5.06 MiB