Package: SharedObject Version: 1.18.0 Command: E:\biocbuild\bbs-3.19-bioc\R\bin\R.exe CMD INSTALL SharedObject StartedAt: 2024-10-16 16:00:21 -0400 (Wed, 16 Oct 2024) EndedAt: 2024-10-16 16:01:38 -0400 (Wed, 16 Oct 2024) EllapsedTime: 77.3 seconds RetCode: 0 Status: OK