Package: SharedObject Version: 1.18.0 Command: chmod a+r SharedObject -R && E:\biocbuild\bbs-3.19-bioc\R\bin\R.exe CMD build --keep-empty-dirs --no-resave-data SharedObject StartedAt: 2024-10-16 21:56:24 -0400 (Wed, 16 Oct 2024) EndedAt: 2024-10-16 21:57:55 -0400 (Wed, 16 Oct 2024) EllapsedTime: 90.7 seconds RetCode: 0 Status: OK PackageFile: SharedObject_1.18.0.tar.gz PackageFileSize: 896.9 KiB