Package: SharedObject Version: 1.18.0 Command: rm -rf SharedObject.buildbin-libdir && mkdir SharedObject.buildbin-libdir && E:\biocbuild\bbs-3.19-bioc\R\bin\R.exe CMD INSTALL --build --library=SharedObject.buildbin-libdir SharedObject_1.18.0.tar.gz StartedAt: 2024-10-17 08:38:17 -0400 (Thu, 17 Oct 2024) EndedAt: 2024-10-17 08:39:59 -0400 (Thu, 17 Oct 2024) EllapsedTime: 101.7 seconds RetCode: 0 Status: OK PackageFile: SharedObject_1.18.0.zip PackageFileSize: 1.295 MiB