Package: SharedObject Version: 1.18.0 Command: /home/biocbuild/bbs-3.19-bioc/R/bin/R CMD build --keep-empty-dirs --no-resave-data SharedObject StartedAt: 2024-10-16 20:49:48 -0400 (Wed, 16 Oct 2024) EndedAt: 2024-10-16 20:50:27 -0400 (Wed, 16 Oct 2024) EllapsedTime: 39.1 seconds RetCode: 0 Status: OK PackageFile: SharedObject_1.18.0.tar.gz PackageFileSize: 2.887 MiB