Package: SharedObject Version: 1.18.0 Command: /Library/Frameworks/R.framework/Resources/bin/R CMD build --keep-empty-dirs --no-resave-data SharedObject StartedAt: 2024-10-16 23:18:07 -0400 (Wed, 16 Oct 2024) EndedAt: 2024-10-16 23:20:04 -0400 (Wed, 16 Oct 2024) EllapsedTime: 117.5 seconds RetCode: 0 Status: OK PackageFile: SharedObject_1.18.0.tar.gz PackageFileSize: 1.895 MiB