Package: SharedObject Version: 1.18.0 Command: rm -rf SharedObject.buildbin-libdir && mkdir SharedObject.buildbin-libdir && /Users/biocbuild/BBS/utils/build-universal.sh SharedObject_1.18.0.tar.gz /Library/Frameworks/R.framework/Resources/bin/R SharedObject.buildbin-libdir StartedAt: 2024-10-17 17:11:57 -0400 (Thu, 17 Oct 2024) EndedAt: 2024-10-17 17:13:10 -0400 (Thu, 17 Oct 2024) EllapsedTime: 73.5 seconds RetCode: 0 Status: OK PackageFile: SharedObject_1.18.0.tgz PackageFileSize: 2.001 MiB