Package: SharedObject Version: 1.18.0 Command: /Library/Frameworks/R.framework/Resources/bin/R CMD INSTALL SharedObject StartedAt: 2024-10-16 15:38:12 -0400 (Wed, 16 Oct 2024) EndedAt: 2024-10-16 15:38:43 -0400 (Wed, 16 Oct 2024) EllapsedTime: 31.2 seconds RetCode: 0 Status: OK