Package: SeqVarTools Version: 1.42.0 Command: E:\biocbuild\bbs-3.19-bioc\R\bin\R.exe CMD INSTALL SeqVarTools StartedAt: 2024-10-16 16:59:56 -0400 (Wed, 16 Oct 2024) EndedAt: 2024-10-16 17:01:08 -0400 (Wed, 16 Oct 2024) EllapsedTime: 72.1 seconds RetCode: 0 Status: OK