Package: SeqVarTools Version: 1.42.0 Command: chmod a+r SeqVarTools -R && E:\biocbuild\bbs-3.19-bioc\R\bin\R.exe CMD build --keep-empty-dirs --no-resave-data SeqVarTools StartedAt: 2024-10-16 21:55:23 -0400 (Wed, 16 Oct 2024) EndedAt: 2024-10-16 21:57:10 -0400 (Wed, 16 Oct 2024) EllapsedTime: 107.8 seconds RetCode: 0 Status: OK PackageFile: SeqVarTools_1.42.0.tar.gz PackageFileSize: 1003 KiB