Package: SeqVarTools Version: 1.42.0 Command: rm -rf SeqVarTools.buildbin-libdir && mkdir SeqVarTools.buildbin-libdir && E:\biocbuild\bbs-3.19-bioc\R\bin\R.exe CMD INSTALL --build --library=SeqVarTools.buildbin-libdir SeqVarTools_1.42.0.tar.gz StartedAt: 2024-10-17 08:37:52 -0400 (Thu, 17 Oct 2024) EndedAt: 2024-10-17 08:39:57 -0400 (Thu, 17 Oct 2024) EllapsedTime: 125.1 seconds RetCode: 0 Status: OK PackageFile: SeqVarTools_1.42.0.zip PackageFileSize: 1.439 MiB