Package: SeqVarTools Version: 1.42.0 Command: chmod a+r SeqVarTools -R && F:\biocbuild\bbs-3.19-bioc\R\bin\R.exe CMD build --keep-empty-dirs --no-resave-data SeqVarTools StartedAt: 2024-06-26 21:55:16 -0400 (Wed, 26 Jun 2024) EndedAt: 2024-06-26 21:56:48 -0400 (Wed, 26 Jun 2024) EllapsedTime: 91.3 seconds RetCode: 0 Status: OK PackageFile: SeqVarTools_1.42.0.tar.gz PackageFileSize: 1003 KiB