Package: SeqVarTools Version: 1.42.0 Command: rm -rf SeqVarTools.buildbin-libdir && mkdir SeqVarTools.buildbin-libdir && F:\biocbuild\bbs-3.19-bioc\R\bin\R.exe CMD INSTALL --build --library=SeqVarTools.buildbin-libdir SeqVarTools_1.42.0.tar.gz StartedAt: 2024-06-27 08:55:04 -0400 (Thu, 27 Jun 2024) EndedAt: 2024-06-27 08:55:50 -0400 (Thu, 27 Jun 2024) EllapsedTime: 45.5 seconds RetCode: 0 Status: OK PackageFile: SeqVarTools_1.42.0.zip PackageFileSize: 1.438 MiB