Package: SeqVarTools Version: 1.42.0 Command: /home/biocbuild/R/R-beta-2024-04-15_r86425/bin/R CMD INSTALL SeqVarTools StartedAt: 2024-05-08 20:49:37 -0000 (Wed, 08 May 2024) EndedAt: 2024-05-08 20:50:07 -0000 (Wed, 08 May 2024) EllapsedTime: 29.9 seconds RetCode: 0 Status: OK