Package: SeqVarTools Version: 1.42.0 Command: /Library/Frameworks/R.framework/Resources/bin/R CMD check --install=check:SeqVarTools.install-out.txt --library=/Library/Frameworks/R.framework/Resources/library --no-vignettes --timings SeqVarTools_1.42.0.tar.gz StartedAt: 2024-06-11 05:26:13 -0400 (Tue, 11 Jun 2024) EndedAt: 2024-06-11 05:30:43 -0400 (Tue, 11 Jun 2024) EllapsedTime: 270.2 seconds RetCode: 0 Status: OK CheckDir: SeqVarTools.Rcheck Warnings: 0