Package: SeqVarTools Version: 1.42.0 Command: /Library/Frameworks/R.framework/Resources/bin/R CMD build --keep-empty-dirs --no-resave-data SeqVarTools StartedAt: 2024-10-17 09:12:52 -0400 (Thu, 17 Oct 2024) EndedAt: 2024-10-17 09:14:03 -0400 (Thu, 17 Oct 2024) EllapsedTime: 71.1 seconds RetCode: 0 Status: OK PackageFile: SeqVarTools_1.42.0.tar.gz PackageFileSize: 1001 KiB