Package: SeqSQC Version: 1.26.0 Command: chmod a+r SeqSQC -R && E:\biocbuild\bbs-3.19-bioc\R\bin\R.exe CMD build --keep-empty-dirs --no-resave-data SeqSQC StartedAt: 2024-10-16 21:55:00 -0400 (Wed, 16 Oct 2024) EndedAt: 2024-10-16 21:56:42 -0400 (Wed, 16 Oct 2024) EllapsedTime: 101.9 seconds RetCode: 0 Status: OK PackageFile: SeqSQC_1.26.0.tar.gz PackageFileSize: 4.338 MiB