Package: SeqSQC Version: 1.26.0 Command: rm -rf SeqSQC.buildbin-libdir && mkdir SeqSQC.buildbin-libdir && E:\biocbuild\bbs-3.19-bioc\R\bin\R.exe CMD INSTALL --build --library=SeqSQC.buildbin-libdir SeqSQC_1.26.0.tar.gz StartedAt: 2024-10-17 08:37:47 -0400 (Thu, 17 Oct 2024) EndedAt: 2024-10-17 08:38:31 -0400 (Thu, 17 Oct 2024) EllapsedTime: 43.0 seconds RetCode: 0 Status: OK PackageFile: SeqSQC_1.26.0.zip PackageFileSize: 4.654 MiB