Package: SeqSQC Version: 1.26.0 Command: chmod a+r SeqSQC -R && F:\biocbuild\bbs-3.19-bioc\R\bin\R.exe CMD build --keep-empty-dirs --no-resave-data SeqSQC StartedAt: 2024-06-26 21:54:09 -0400 (Wed, 26 Jun 2024) EndedAt: 2024-06-26 21:55:42 -0400 (Wed, 26 Jun 2024) EllapsedTime: 93.3 seconds RetCode: 0 Status: OK PackageFile: SeqSQC_1.26.0.tar.gz PackageFileSize: 4.338 MiB